BEGIN:VCALENDAR
VERSION:2.0
PRODID:icalendar-ruby
CALSCALE:GREGORIAN
METHOD:PUBLISH
BEGIN:VEVENT
DTSTAMP:20260424T161038Z
UID:42-1306618@cecillakechristianfellowship.com
DTSTART:20261106T020000Z
DTEND:20261106T030000Z
CLASS:PUBLIC
CREATED:20260424T063256
DESCRIPTION:
LAST-MODIFIED:20260424T063256
LOCATION:Golbecks' Residence
SUMMARY:Small Group
URL;VALUE=URI:https://www.cecillakechristianfellowship.com/events/small-gro
 up/2026-11-05
END:VEVENT
END:VCALENDAR
