BEGIN:VCALENDAR
VERSION:2.0
PRODID:icalendar-ruby
CALSCALE:GREGORIAN
METHOD:PUBLISH
BEGIN:VEVENT
DTSTAMP:20260424T110554Z
UID:42-1306020@cecillakechristianfellowship.com
DTSTART:20261016T020000Z
DTEND:20261016T030000Z
CLASS:PUBLIC
CREATED:20260424T033808
DESCRIPTION:
LAST-MODIFIED:20260424T033808
LOCATION:Golbecks' Residence
SUMMARY:Small Group
URL;VALUE=URI:https://www.cecillakechristianfellowship.com/events/small-gro
 up/2026-10-15
END:VEVENT
END:VCALENDAR
