BEGIN:VCALENDAR
VERSION:2.0
PRODID:icalendar-ruby
CALSCALE:GREGORIAN
METHOD:PUBLISH
BEGIN:VEVENT
DTSTAMP:20260424T080229Z
UID:42-1305424@cecillakechristianfellowship.com
DTSTART:20261002T020000Z
DTEND:20261002T030000Z
CLASS:PUBLIC
CREATED:20260423T181022
DESCRIPTION:
LAST-MODIFIED:20260423T181022
LOCATION:Golbecks' Residence
SUMMARY:Small Group
URL;VALUE=URI:https://www.cecillakechristianfellowship.com/events/small-gro
 up/2026-10-01
END:VEVENT
END:VCALENDAR
