BEGIN:VCALENDAR
VERSION:2.0
PRODID:icalendar-ruby
CALSCALE:GREGORIAN
METHOD:PUBLISH
BEGIN:VEVENT
DTSTAMP:20260424T010734Z
UID:42-1304826@cecillakechristianfellowship.com
DTSTART:20260904T020000Z
DTEND:20260904T030000Z
CLASS:PUBLIC
CREATED:20260423T151724
DESCRIPTION:
LAST-MODIFIED:20260423T151724
LOCATION:Golbecks' Residence
SUMMARY:Small Group
URL;VALUE=URI:https://www.cecillakechristianfellowship.com/events/small-gro
 up/2026-09-03
END:VEVENT
END:VCALENDAR
