BEGIN:VCALENDAR
VERSION:2.0
PRODID:icalendar-ruby
CALSCALE:GREGORIAN
METHOD:PUBLISH
BEGIN:VEVENT
DTSTAMP:20260423T234644Z
UID:42-1304825@cecillakechristianfellowship.com
DTSTART:20260828T020000Z
DTEND:20260828T030000Z
CLASS:PUBLIC
CREATED:20260423T151724
DESCRIPTION:
LAST-MODIFIED:20260423T151724
LOCATION:Golbecks' Residence
SUMMARY:Small Group
URL;VALUE=URI:https://www.cecillakechristianfellowship.com/events/small-gro
 up/2026-08-27
END:VEVENT
END:VCALENDAR
