BEGIN:VCALENDAR
VERSION:2.0
PRODID:icalendar-ruby
CALSCALE:GREGORIAN
METHOD:PUBLISH
BEGIN:VEVENT
DTSTAMP:20260423T164118Z
UID:42-1303633@cecillakechristianfellowship.com
DTSTART:20260731T020000Z
DTEND:20260731T030000Z
CLASS:PUBLIC
CREATED:20260423T092604
DESCRIPTION:
LAST-MODIFIED:20260423T092604
LOCATION:Golbecks' Residence
SUMMARY:Small Group
URL;VALUE=URI:https://www.cecillakechristianfellowship.com/events/small-gro
 up/2026-07-30
END:VEVENT
END:VCALENDAR
