BEGIN:VCALENDAR
VERSION:2.0
PRODID:icalendar-ruby
CALSCALE:GREGORIAN
METHOD:PUBLISH
BEGIN:VEVENT
DTSTAMP:20260423T131944Z
UID:42-1302445@cecillakechristianfellowship.com
DTSTART:20260717T020000Z
DTEND:20260717T030000Z
CLASS:PUBLIC
CREATED:20260423T033742
DESCRIPTION:
LAST-MODIFIED:20260423T033742
LOCATION:Golbecks' Residence
SUMMARY:Small Group
URL;VALUE=URI:https://www.cecillakechristianfellowship.com/events/small-gro
 up/2026-07-16
END:VEVENT
END:VCALENDAR
