BEGIN:VCALENDAR
VERSION:2.0
PRODID:icalendar-ruby
CALSCALE:GREGORIAN
METHOD:PUBLISH
BEGIN:VEVENT
DTSTAMP:20260421T210705Z
UID:42-1297700@cecillakechristianfellowship.com
DTSTART:20260626T020000Z
DTEND:20260626T030000Z
CLASS:PUBLIC
CREATED:20260421T140216
DESCRIPTION:
LAST-MODIFIED:20260421T140216
LOCATION:Golbecks' Residence
SUMMARY:Small Group
URL;VALUE=URI:https://www.cecillakechristianfellowship.com/events/small-gro
 up/2026-06-25
END:VEVENT
END:VCALENDAR
