BEGIN:VCALENDAR
VERSION:2.0
PRODID:icalendar-ruby
CALSCALE:GREGORIAN
METHOD:PUBLISH
BEGIN:VEVENT
DTSTAMP:20260421T191824Z
UID:42-1297107@cecillakechristianfellowship.com
DTSTART:20260619T020000Z
DTEND:20260619T030000Z
CLASS:PUBLIC
CREATED:20260421T112545
DESCRIPTION:
LAST-MODIFIED:20260421T112545
LOCATION:Golbecks' Residence
SUMMARY:Small Group
URL;VALUE=URI:https://www.cecillakechristianfellowship.com/events/small-gro
 up/2026-06-18
END:VEVENT
END:VCALENDAR
