BEGIN:VCALENDAR
VERSION:2.0
PRODID:icalendar-ruby
CALSCALE:GREGORIAN
METHOD:PUBLISH
BEGIN:VEVENT
DTSTAMP:20260421T173236Z
UID:42-1296514@cecillakechristianfellowship.com
DTSTART:20260612T020000Z
DTEND:20260612T030000Z
CLASS:PUBLIC
CREATED:20260421T084631
DESCRIPTION:
LAST-MODIFIED:20260421T084631
LOCATION:Golbecks' Residence
SUMMARY:Small Group
URL;VALUE=URI:https://www.cecillakechristianfellowship.com/events/small-gro
 up/2026-06-11
END:VEVENT
END:VCALENDAR
