BEGIN:VCALENDAR
VERSION:2.0
PRODID:icalendar-ruby
CALSCALE:GREGORIAN
METHOD:PUBLISH
BEGIN:VEVENT
DTSTAMP:20260421T143135Z
UID:42-1295920@cecillakechristianfellowship.com
DTSTART:20260529T020000Z
DTEND:20260529T030000Z
CLASS:PUBLIC
CREATED:20260421T060950
DESCRIPTION:
LAST-MODIFIED:20260421T060950
LOCATION:Golbecks' Residence
SUMMARY:Small Group
URL;VALUE=URI:https://www.cecillakechristianfellowship.com/events/small-gro
 up/2026-05-28
END:VEVENT
END:VCALENDAR
