BEGIN:VCALENDAR
VERSION:2.0
PRODID:icalendar-ruby
CALSCALE:GREGORIAN
METHOD:PUBLISH
BEGIN:VEVENT
DTSTAMP:20260421T113549Z
UID:42-1295326@cecillakechristianfellowship.com
DTSTART:20260515T020000Z
DTEND:20260515T030000Z
CLASS:PUBLIC
CREATED:20260421T033355
DESCRIPTION:
LAST-MODIFIED:20260421T033355
LOCATION:Golbecks' Residence
SUMMARY:Small Group
URL;VALUE=URI:https://www.cecillakechristianfellowship.com/events/small-gro
 up/2026-05-14
END:VEVENT
END:VCALENDAR
