BEGIN:VCALENDAR
VERSION:2.0
PRODID:icalendar-ruby
CALSCALE:GREGORIAN
METHOD:PUBLISH
BEGIN:VEVENT
DTSTAMP:20260421T100748Z
UID:42-1294733@cecillakechristianfellowship.com
DTSTART:20260508T020000Z
DTEND:20260508T030000Z
CLASS:PUBLIC
CREATED:20260420T162804
DESCRIPTION:
LAST-MODIFIED:20260420T162804
LOCATION:Golbecks' Residence
SUMMARY:Small Group
URL;VALUE=URI:https://www.cecillakechristianfellowship.com/events/small-gro
 up/2026-05-07
END:VEVENT
END:VCALENDAR
