BEGIN:VCALENDAR
VERSION:2.0
PRODID:icalendar-ruby
CALSCALE:GREGORIAN
METHOD:PUBLISH
BEGIN:VEVENT
DTSTAMP:20260423T085806Z
UID:42-1301841@cecillakechristianfellowship.com
DTSTART:20260501T020000Z
DTEND:20260501T030000Z
CLASS:PUBLIC
CREATED:20260422T180839
DESCRIPTION:
LAST-MODIFIED:20260422T180839
LOCATION:Golbecks' Residence
SUMMARY:Small Group
URL;VALUE=URI:https://www.cecillakechristianfellowship.com/events/small-gro
 up/2026-04-30
END:VEVENT
END:VCALENDAR
