BEGIN:VCALENDAR
VERSION:2.0
PRODID:icalendar-ruby
CALSCALE:GREGORIAN
METHOD:PUBLISH
BEGIN:VEVENT
DTSTAMP:20260424T094648Z
UID:43-1305458@cecillakechristianfellowship.com
DTSTART:20261102T164500Z
DTEND:20261102T184500Z
CLASS:PUBLIC
CREATED:20260423T181022
DESCRIPTION:
LAST-MODIFIED:20260423T181022
LOCATION:CLCF Sanctuary
SUMMARY:Ladies' Bible Study
URL;VALUE=URI:https://www.cecillakechristianfellowship.com/events/ladies-bi
 ble-study/2026-11-02
END:VEVENT
END:VCALENDAR
