BEGIN:VCALENDAR
VERSION:2.0
PRODID:icalendar-ruby
CALSCALE:GREGORIAN
METHOD:PUBLISH
BEGIN:VEVENT
DTSTAMP:20260424T081557Z
UID:43-1305457@cecillakechristianfellowship.com
DTSTART:20261026T164500Z
DTEND:20261026T184500Z
CLASS:PUBLIC
CREATED:20260423T181022
DESCRIPTION:
LAST-MODIFIED:20260423T181022
LOCATION:CLCF Sanctuary
SUMMARY:Ladies' Bible Study
URL;VALUE=URI:https://www.cecillakechristianfellowship.com/events/ladies-bi
 ble-study/2026-10-26
END:VEVENT
END:VCALENDAR
