BEGIN:VCALENDAR
VERSION:2.0
PRODID:icalendar-ruby
CALSCALE:GREGORIAN
METHOD:PUBLISH
BEGIN:VEVENT
DTSTAMP:20260422T073704Z
UID:43-1298335@cecillakechristianfellowship.com
DTSTART:20260928T164500Z
DTEND:20260928T184500Z
CLASS:PUBLIC
CREATED:20260421T164048
DESCRIPTION:
LAST-MODIFIED:20260421T164048
LOCATION:CLCF Sanctuary
SUMMARY:Ladies' Bible Study
URL;VALUE=URI:https://www.cecillakechristianfellowship.com/events/ladies-bi
 ble-study/2026-09-28
END:VEVENT
END:VCALENDAR
