BEGIN:VCALENDAR
VERSION:2.0
PRODID:icalendar-ruby
CALSCALE:GREGORIAN
METHOD:PUBLISH
BEGIN:VEVENT
DTSTAMP:20260421T222345Z
UID:43-1297737@cecillakechristianfellowship.com
DTSTART:20260817T164500Z
DTEND:20260817T184500Z
CLASS:PUBLIC
CREATED:20260421T140216
DESCRIPTION:
LAST-MODIFIED:20260421T140216
LOCATION:CLCF Sanctuary
SUMMARY:Ladies' Bible Study
URL;VALUE=URI:https://www.cecillakechristianfellowship.com/events/ladies-bi
 ble-study/2026-08-17
END:VEVENT
END:VCALENDAR
