BEGIN:VCALENDAR
VERSION:2.0
PRODID:icalendar-ruby
CALSCALE:GREGORIAN
METHOD:PUBLISH
BEGIN:VEVENT
DTSTAMP:20260421T205622Z
UID:43-1297144@cecillakechristianfellowship.com
DTSTART:20260810T164500Z
DTEND:20260810T184500Z
CLASS:PUBLIC
CREATED:20260421T112545
DESCRIPTION:
LAST-MODIFIED:20260421T112545
LOCATION:CLCF Sanctuary
SUMMARY:Ladies' Bible Study
URL;VALUE=URI:https://www.cecillakechristianfellowship.com/events/ladies-bi
 ble-study/2026-08-10
END:VEVENT
END:VCALENDAR
