BEGIN:VCALENDAR
VERSION:2.0
PRODID:icalendar-ruby
CALSCALE:GREGORIAN
METHOD:PUBLISH
BEGIN:VEVENT
DTSTAMP:20260421T191836Z
UID:43-1297143@cecillakechristianfellowship.com
DTSTART:20260803T164500Z
DTEND:20260803T184500Z
CLASS:PUBLIC
CREATED:20260421T112545
DESCRIPTION:
LAST-MODIFIED:20260421T112545
LOCATION:CLCF Sanctuary
SUMMARY:Ladies' Bible Study
URL;VALUE=URI:https://www.cecillakechristianfellowship.com/events/ladies-bi
 ble-study/2026-08-03
END:VEVENT
END:VCALENDAR
