BEGIN:VCALENDAR
VERSION:2.0
PRODID:icalendar-ruby
CALSCALE:GREGORIAN
METHOD:PUBLISH
BEGIN:VEVENT
DTSTAMP:20260421T172820Z
UID:43-1296550@cecillakechristianfellowship.com
DTSTART:20260727T164500Z
DTEND:20260727T184500Z
CLASS:PUBLIC
CREATED:20260421T084631
DESCRIPTION:
LAST-MODIFIED:20260421T084631
LOCATION:CLCF Sanctuary
SUMMARY:Ladies' Bible Study
URL;VALUE=URI:https://www.cecillakechristianfellowship.com/events/ladies-bi
 ble-study/2026-07-27
END:VEVENT
END:VCALENDAR
