BEGIN:VCALENDAR
VERSION:2.0
PRODID:icalendar-ruby
CALSCALE:GREGORIAN
METHOD:PUBLISH
BEGIN:VEVENT
DTSTAMP:20260421T155853Z
UID:43-1296549@cecillakechristianfellowship.com
DTSTART:20260720T164500Z
DTEND:20260720T184500Z
CLASS:PUBLIC
CREATED:20260421T084631
DESCRIPTION:
LAST-MODIFIED:20260421T084631
LOCATION:CLCF Sanctuary
SUMMARY:Ladies' Bible Study
URL;VALUE=URI:https://www.cecillakechristianfellowship.com/events/ladies-bi
 ble-study/2026-07-20
END:VEVENT
END:VCALENDAR
