BEGIN:VCALENDAR
VERSION:2.0
PRODID:icalendar-ruby
CALSCALE:GREGORIAN
METHOD:PUBLISH
BEGIN:VEVENT
DTSTAMP:20260421T141450Z
UID:43-1295956@cecillakechristianfellowship.com
DTSTART:20260713T164500Z
DTEND:20260713T184500Z
CLASS:PUBLIC
CREATED:20260421T060950
DESCRIPTION:
LAST-MODIFIED:20260421T060950
LOCATION:CLCF Sanctuary
SUMMARY:Ladies' Bible Study
URL;VALUE=URI:https://www.cecillakechristianfellowship.com/events/ladies-bi
 ble-study/2026-07-13
END:VEVENT
END:VCALENDAR
