BEGIN:VCALENDAR
VERSION:2.0
PRODID:icalendar-ruby
CALSCALE:GREGORIAN
METHOD:PUBLISH
BEGIN:VEVENT
DTSTAMP:20260421T124915Z
UID:43-1295363@cecillakechristianfellowship.com
DTSTART:20260706T164500Z
DTEND:20260706T184500Z
CLASS:PUBLIC
CREATED:20260421T033355
DESCRIPTION:
LAST-MODIFIED:20260421T033355
LOCATION:CLCF Sanctuary
SUMMARY:Ladies' Bible Study
URL;VALUE=URI:https://www.cecillakechristianfellowship.com/events/ladies-bi
 ble-study/2026-07-06
END:VEVENT
END:VCALENDAR
