BEGIN:VCALENDAR
VERSION:2.0
PRODID:icalendar-ruby
CALSCALE:GREGORIAN
METHOD:PUBLISH
BEGIN:VEVENT
DTSTAMP:20260421T083445Z
UID:43-1294768@cecillakechristianfellowship.com
DTSTART:20260615T164500Z
DTEND:20260615T184500Z
CLASS:PUBLIC
CREATED:20260420T162804
DESCRIPTION:
LAST-MODIFIED:20260420T162804
LOCATION:CLCF Sanctuary
SUMMARY:Ladies' Bible Study
URL;VALUE=URI:https://www.cecillakechristianfellowship.com/events/ladies-bi
 ble-study/2026-06-15
END:VEVENT
END:VCALENDAR
