BEGIN:VCALENDAR
VERSION:2.0
PRODID:icalendar-ruby
CALSCALE:GREGORIAN
METHOD:PUBLISH
BEGIN:VEVENT
DTSTAMP:20260424T164334Z
UID:28-1307068@cecillakechristianfellowship.com
DTSTART:20261022T170000Z
DTEND:20261022T183000Z
CLASS:PUBLIC
CREATED:20260424T092352
DESCRIPTION:We are currently running a series on conversational evangelism.
  Learn how to communicate the Gospel by turning everyday conversations int
 o opportunities to share the Good News.
LAST-MODIFIED:20260424T092352
LOCATION:Jim Friesen's Residence
SUMMARY:Bible Study
URL;VALUE=URI:https://www.cecillakechristianfellowship.com/events/bible-stu
 dy/2026-10-22
END:VEVENT
END:VCALENDAR
