BEGIN:VCALENDAR
VERSION:2.0
PRODID:icalendar-ruby
CALSCALE:GREGORIAN
METHOD:PUBLISH
BEGIN:VEVENT
DTSTAMP:20260424T151131Z
UID:28-1306472@cecillakechristianfellowship.com
DTSTART:20261015T170000Z
DTEND:20261015T183000Z
CLASS:PUBLIC
CREATED:20260424T063255
DESCRIPTION:We are currently running a series on conversational evangelism.
  Learn how to communicate the Gospel by turning everyday conversations int
 o opportunities to share the Good News.
LAST-MODIFIED:20260424T063255
LOCATION:Jim Friesen's Residence
SUMMARY:Bible Study
URL;VALUE=URI:https://www.cecillakechristianfellowship.com/events/bible-stu
 dy/2026-10-15
END:VEVENT
END:VCALENDAR
