BEGIN:VCALENDAR
VERSION:2.0
PRODID:icalendar-ruby
CALSCALE:GREGORIAN
METHOD:PUBLISH
BEGIN:VEVENT
DTSTAMP:20260424T114447Z
UID:28-1305875@cecillakechristianfellowship.com
DTSTART:20261001T170000Z
DTEND:20261001T183000Z
CLASS:PUBLIC
CREATED:20260424T033807
DESCRIPTION:We are currently running a series on conversational evangelism.
  Learn how to communicate the Gospel by turning everyday conversations int
 o opportunities to share the Good News.
LAST-MODIFIED:20260424T033807
LOCATION:Jim Friesen's Residence
SUMMARY:Bible Study
URL;VALUE=URI:https://www.cecillakechristianfellowship.com/events/bible-stu
 dy/2026-10-01
END:VEVENT
END:VCALENDAR
