BEGIN:VCALENDAR
VERSION:2.0
PRODID:icalendar-ruby
CALSCALE:GREGORIAN
METHOD:PUBLISH
BEGIN:VEVENT
DTSTAMP:20260425T012150Z
UID:44-1309058@cecillakechristianfellowship.com
DTSTART:20261104T013000Z
DTEND:20261104T030000Z
CLASS:PUBLIC
CREATED:20260424T174534
DESCRIPTION:
LAST-MODIFIED:20260424T174534
LOCATION:CLCF Sanctuary
SUMMARY:AWANA
URL;VALUE=URI:https://www.cecillakechristianfellowship.com/events/awana/202
 6-11-03
END:VEVENT
END:VCALENDAR
