BEGIN:VCALENDAR
VERSION:2.0
PRODID:icalendar-ruby
CALSCALE:GREGORIAN
METHOD:PUBLISH
BEGIN:VEVENT
DTSTAMP:20260424T221331Z
UID:44-1308461@cecillakechristianfellowship.com
DTSTART:20261021T013000Z
DTEND:20261021T030000Z
CLASS:PUBLIC
CREATED:20260424T145735
DESCRIPTION:
LAST-MODIFIED:20260424T145735
LOCATION:CLCF Sanctuary
SUMMARY:AWANA
URL;VALUE=URI:https://www.cecillakechristianfellowship.com/events/awana/202
 6-10-20
END:VEVENT
END:VCALENDAR
