BEGIN:VCALENDAR
VERSION:2.0
PRODID:icalendar-ruby
CALSCALE:GREGORIAN
METHOD:PUBLISH
BEGIN:VEVENT
DTSTAMP:20260424T205303Z
UID:44-1307865@cecillakechristianfellowship.com
DTSTART:20261014T013000Z
DTEND:20261014T030000Z
CLASS:PUBLIC
CREATED:20260424T120938
DESCRIPTION:
LAST-MODIFIED:20260424T120938
LOCATION:CLCF Sanctuary
SUMMARY:AWANA
URL;VALUE=URI:https://www.cecillakechristianfellowship.com/events/awana/202
 6-10-13
END:VEVENT
END:VCALENDAR
