BEGIN:VCALENDAR
VERSION:2.0
PRODID:icalendar-ruby
CALSCALE:GREGORIAN
METHOD:PUBLISH
BEGIN:VEVENT
DTSTAMP:20260424T191334Z
UID:44-1307864@cecillakechristianfellowship.com
DTSTART:20261007T013000Z
DTEND:20261007T030000Z
CLASS:PUBLIC
CREATED:20260424T120938
DESCRIPTION:
LAST-MODIFIED:20260424T120938
LOCATION:CLCF Sanctuary
SUMMARY:AWANA
URL;VALUE=URI:https://www.cecillakechristianfellowship.com/events/awana/202
 6-10-06
END:VEVENT
END:VCALENDAR
