BEGIN:VCALENDAR
VERSION:2.0
PRODID:icalendar-ruby
CALSCALE:GREGORIAN
METHOD:PUBLISH
BEGIN:VEVENT
DTSTAMP:20260424T174336Z
UID:44-1307268@cecillakechristianfellowship.com
DTSTART:20260930T013000Z
DTEND:20260930T030000Z
CLASS:PUBLIC
CREATED:20260424T092352
DESCRIPTION:
LAST-MODIFIED:20260424T092352
LOCATION:CLCF Sanctuary
SUMMARY:AWANA
URL;VALUE=URI:https://www.cecillakechristianfellowship.com/events/awana/202
 6-09-29
END:VEVENT
END:VCALENDAR
