BEGIN:VCALENDAR
VERSION:2.0
PRODID:icalendar-ruby
CALSCALE:GREGORIAN
METHOD:PUBLISH
BEGIN:VEVENT
DTSTAMP:20260424T161242Z
UID:44-1306672@cecillakechristianfellowship.com
DTSTART:20260923T013000Z
DTEND:20260923T030000Z
CLASS:PUBLIC
CREATED:20260424T063256
DESCRIPTION:
LAST-MODIFIED:20260424T063256
LOCATION:CLCF Sanctuary
SUMMARY:AWANA
URL;VALUE=URI:https://www.cecillakechristianfellowship.com/events/awana/202
 6-09-22
END:VEVENT
END:VCALENDAR
