BEGIN:VCALENDAR
VERSION:2.0
PRODID:icalendar-ruby
CALSCALE:GREGORIAN
METHOD:PUBLISH
BEGIN:VEVENT
DTSTAMP:20260424T125819Z
UID:44-1306075@cecillakechristianfellowship.com
DTSTART:20260909T013000Z
DTEND:20260909T030000Z
CLASS:PUBLIC
CREATED:20260424T033808
DESCRIPTION:
LAST-MODIFIED:20260424T033808
LOCATION:CLCF Sanctuary
SUMMARY:AWANA
URL;VALUE=URI:https://www.cecillakechristianfellowship.com/events/awana/202
 6-09-08
END:VEVENT
END:VCALENDAR
