BEGIN:VCALENDAR
VERSION:2.0
PRODID:icalendar-ruby
CALSCALE:GREGORIAN
METHOD:PUBLISH
BEGIN:VEVENT
DTSTAMP:20260424T094443Z
UID:44-1305478@cecillakechristianfellowship.com
DTSTART:20260826T013000Z
DTEND:20260826T030000Z
CLASS:PUBLIC
CREATED:20260423T181022
DESCRIPTION:
LAST-MODIFIED:20260423T181022
LOCATION:CLCF Sanctuary
SUMMARY:AWANA
URL;VALUE=URI:https://www.cecillakechristianfellowship.com/events/awana/202
 6-08-25
END:VEVENT
END:VCALENDAR
