BEGIN:VCALENDAR
VERSION:2.0
PRODID:icalendar-ruby
CALSCALE:GREGORIAN
METHOD:PUBLISH
BEGIN:VEVENT
DTSTAMP:20260422T024134Z
UID:44-1298356@cecillakechristianfellowship.com
DTSTART:20260729T013000Z
DTEND:20260729T030000Z
CLASS:PUBLIC
CREATED:20260421T164048
DESCRIPTION:
LAST-MODIFIED:20260421T164048
LOCATION:CLCF Sanctuary
SUMMARY:AWANA
URL;VALUE=URI:https://www.cecillakechristianfellowship.com/events/awana/202
 6-07-28
END:VEVENT
END:VCALENDAR
