BEGIN:VCALENDAR
VERSION:2.0
PRODID:icalendar-ruby
CALSCALE:GREGORIAN
METHOD:PUBLISH
BEGIN:VEVENT
DTSTAMP:20260421T215258Z
UID:44-1297761@cecillakechristianfellowship.com
DTSTART:20260708T013000Z
DTEND:20260708T030000Z
CLASS:PUBLIC
CREATED:20260421T140216
DESCRIPTION:
LAST-MODIFIED:20260421T140216
LOCATION:CLCF Sanctuary
SUMMARY:AWANA
URL;VALUE=URI:https://www.cecillakechristianfellowship.com/events/awana/202
 6-07-07
END:VEVENT
END:VCALENDAR
