BEGIN:VCALENDAR
VERSION:2.0
PRODID:icalendar-ruby
CALSCALE:GREGORIAN
METHOD:PUBLISH
BEGIN:VEVENT
DTSTAMP:20260421T203345Z
UID:44-1297168@cecillakechristianfellowship.com
DTSTART:20260701T013000Z
DTEND:20260701T030000Z
CLASS:PUBLIC
CREATED:20260421T112545
DESCRIPTION:
LAST-MODIFIED:20260421T112545
LOCATION:CLCF Sanctuary
SUMMARY:AWANA
URL;VALUE=URI:https://www.cecillakechristianfellowship.com/events/awana/202
 6-06-30
END:VEVENT
END:VCALENDAR
