BEGIN:VCALENDAR
VERSION:2.0
PRODID:icalendar-ruby
CALSCALE:GREGORIAN
METHOD:PUBLISH
BEGIN:VEVENT
DTSTAMP:20260421T154224Z
UID:44-1295981@cecillakechristianfellowship.com
DTSTART:20260610T013000Z
DTEND:20260610T030000Z
CLASS:PUBLIC
CREATED:20260421T060950
DESCRIPTION:
LAST-MODIFIED:20260421T060950
LOCATION:CLCF Sanctuary
SUMMARY:AWANA
URL;VALUE=URI:https://www.cecillakechristianfellowship.com/events/awana/202
 6-06-09
END:VEVENT
END:VCALENDAR
