BEGIN:VCALENDAR
VERSION:2.0
PRODID:icalendar-ruby
CALSCALE:GREGORIAN
METHOD:PUBLISH
BEGIN:VEVENT
DTSTAMP:20260421T084122Z
UID:44-1294792@cecillakechristianfellowship.com
DTSTART:20260506T013000Z
DTEND:20260506T030000Z
CLASS:PUBLIC
CREATED:20260420T162804
DESCRIPTION:
LAST-MODIFIED:20260420T162804
LOCATION:CLCF Sanctuary
SUMMARY:AWANA
URL;VALUE=URI:https://www.cecillakechristianfellowship.com/events/awana/202
 6-05-05
END:VEVENT
END:VCALENDAR
